BEGIN:VCALENDAR
VERSION:2.0
PRODID:-//Plone.org//NONSGML plone.app.event//EN
X-WR-TIMEZONE:Europe/Zurich
BEGIN:VEVENT
SUMMARY:Schulhaussprechstunde ab 13:00h
DTSTART;TZID=Europe/Zurich;VALUE=DATE-TIME:20251022T130000
DTEND;TZID=Europe/Zurich;VALUE=DATE-TIME:20251022T170000
DTSTAMP;VALUE=DATE-TIME:20260421T111113Z
UID:040000008200E00074C5B7101A82E00800000000C029492322D2DB0100000000000000
 0010000000BB97BC057064C84BAA215C1162C0B358
CREATED;VALUE=DATE-TIME:20250611T084900Z
LAST-MODIFIED;VALUE=DATE-TIME:20250611T085746Z
URL:https://www.sek-pratteln.ch/events/oeffentlich/schulhaussprechstunde-a
 b-13-00h-8
END:VEVENT
BEGIN:VTIMEZONE
TZID:Europe/Zurich
X-LIC-LOCATION:Europe/Zurich
BEGIN:DAYLIGHT
DTSTART;VALUE=DATE-TIME:20250330T030000
TZNAME:CEST
TZOFFSETFROM:+0100
TZOFFSETTO:+0200
END:DAYLIGHT
END:VTIMEZONE
END:VCALENDAR
