BEGIN:VCALENDAR
VERSION:2.0
PRODID:-//Plone.org//NONSGML plone.app.event//EN
X-WR-TIMEZONE:Europe/Zurich
BEGIN:VEVENT
SUMMARY:Schulhaussprechstunde
DTSTART;TZID=Europe/Zurich;VALUE=DATE-TIME:20190917T130000
DTEND;TZID=Europe/Zurich;VALUE=DATE-TIME:20190917T160000
DTSTAMP;VALUE=DATE-TIME:20260421T110700Z
UID:040000008200E00074C5B7101A82E00800000000703CAEF5A131D50100000000000000
 0010000000332F2CB72DC9B14599B1FC661C59BC45
CREATED;VALUE=DATE-TIME:20190708T101853Z
DESCRIPTION:\n\n
LAST-MODIFIED;VALUE=DATE-TIME:20200706T064400Z
URL:https://www.sek-pratteln.ch/events/oeffentlich/schulhaussprechstunde-8
END:VEVENT
BEGIN:VTIMEZONE
TZID:Europe/Zurich
X-LIC-LOCATION:Europe/Zurich
BEGIN:DAYLIGHT
DTSTART;VALUE=DATE-TIME:20190331T030000
TZNAME:CEST
TZOFFSETFROM:+0100
TZOFFSETTO:+0200
END:DAYLIGHT
END:VTIMEZONE
END:VCALENDAR
