BEGIN:VCALENDAR
VERSION:2.0
PRODID:-//Plone.org//NONSGML plone.app.event//EN
X-WR-TIMEZONE:Europe/Zurich
BEGIN:VEVENT
SUMMARY:Schulhaussprechstunde
DTSTART;TZID=Europe/Zurich;VALUE=DATE-TIME:20191022T130000
DTEND;TZID=Europe/Zurich;VALUE=DATE-TIME:20191022T160000
DTSTAMP;VALUE=DATE-TIME:20260421T104859Z
UID:040000008200E00074C5B7101A82E00800000000300E855AA231D50100000000000000
 00100000005285E40A0DB891408F63D0F50AEFDD4E
CREATED;VALUE=DATE-TIME:20190708T101851Z
DESCRIPTION:\n\n
LAST-MODIFIED;VALUE=DATE-TIME:20200706T064359Z
URL:https://www.sek-pratteln.ch/events/oeffentlich/schulhaussprechstunde-7
END:VEVENT
BEGIN:VTIMEZONE
TZID:Europe/Zurich
X-LIC-LOCATION:Europe/Zurich
BEGIN:DAYLIGHT
DTSTART;VALUE=DATE-TIME:20190331T030000
TZNAME:CEST
TZOFFSETFROM:+0100
TZOFFSETTO:+0200
END:DAYLIGHT
END:VTIMEZONE
END:VCALENDAR
