BEGIN:VCALENDAR
VERSION:2.0
PRODID:-//Plone.org//NONSGML plone.app.event//EN
X-WR-TIMEZONE:Europe/Zurich
BEGIN:VEVENT
SUMMARY:Schulhaussprechstunde
DTSTART;TZID=Europe/Zurich;VALUE=DATE-TIME:20231213T130000
DTEND;TZID=Europe/Zurich;VALUE=DATE-TIME:20231213T170000
DTSTAMP;VALUE=DATE-TIME:20260420T151259Z
UID:040000008200E00074C5B7101A82E00800000000A053EEC93DA4D90100000000000000
 00100000007FA5F8EE8795D942992148CE9B012813
CREATED;VALUE=DATE-TIME:20230626T125553Z
LAST-MODIFIED;VALUE=DATE-TIME:20230626T125904Z
URL:https://www.sek-pratteln.ch/events/oeffentlich/schulhaussprechstunde-4
 2
END:VEVENT
BEGIN:VTIMEZONE
TZID:Europe/Zurich
X-LIC-LOCATION:Europe/Zurich
BEGIN:STANDARD
DTSTART;VALUE=DATE-TIME:20231029T020000
TZNAME:CET
TZOFFSETFROM:+0200
TZOFFSETTO:+0100
END:STANDARD
END:VTIMEZONE
END:VCALENDAR
