BEGIN:VCALENDAR
VERSION:2.0
PRODID:-//Plone.org//NONSGML plone.app.event//EN
X-WR-TIMEZONE:Europe/Zurich
BEGIN:VEVENT
SUMMARY:Schulhaussprechstunde
DTSTART;TZID=Europe/Zurich;VALUE=DATE-TIME:20240417T130000
DTEND;TZID=Europe/Zurich;VALUE=DATE-TIME:20240417T170000
DTSTAMP;VALUE=DATE-TIME:20260421T110709Z
UID:040000008200E00074C5B7101A82E00800000000703A084E3EA4D90100000000000000
 0010000000624A6B91ABE3FD4D873A78D4E8E4007E
CREATED;VALUE=DATE-TIME:20230626T125552Z
LAST-MODIFIED;VALUE=DATE-TIME:20230626T125904Z
URL:https://www.sek-pratteln.ch/events/oeffentlich/schulhaussprechstunde-3
 8
END:VEVENT
BEGIN:VTIMEZONE
TZID:Europe/Zurich
X-LIC-LOCATION:Europe/Zurich
BEGIN:DAYLIGHT
DTSTART;VALUE=DATE-TIME:20240331T030000
TZNAME:CEST
TZOFFSETFROM:+0100
TZOFFSETTO:+0200
END:DAYLIGHT
END:VTIMEZONE
END:VCALENDAR
