BEGIN:VCALENDAR
VERSION:2.0
PRODID:-//Plone.org//NONSGML plone.app.event//EN
X-WR-TIMEZONE:Europe/Zurich
BEGIN:VEVENT
SUMMARY:Schulhaussprechstunde
DTSTART;TZID=Europe/Zurich;VALUE=DATE-TIME:20230510T130000
DTEND;TZID=Europe/Zurich;VALUE=DATE-TIME:20230510T170000
DTSTAMP;VALUE=DATE-TIME:20260421T110708Z
UID:040000008200E00074C5B7101A82E0080000000060F69F733883D80100000000000000
 00100000004A9253823AF786439EB38B9FAAB5EBF5
CREATED;VALUE=DATE-TIME:20220627T163425Z
DESCRIPTION: \n
LAST-MODIFIED;VALUE=DATE-TIME:20220627T165913Z
URL:https://www.sek-pratteln.ch/events/oeffentlich/schulhaussprechstunde-3
 4
END:VEVENT
BEGIN:VTIMEZONE
TZID:Europe/Zurich
X-LIC-LOCATION:Europe/Zurich
BEGIN:DAYLIGHT
DTSTART;VALUE=DATE-TIME:20230326T030000
TZNAME:CEST
TZOFFSETFROM:+0100
TZOFFSETTO:+0200
END:DAYLIGHT
END:VTIMEZONE
END:VCALENDAR
