BEGIN:VCALENDAR
VERSION:2.0
PRODID:-//Plone.org//NONSGML plone.app.event//EN
X-WR-TIMEZONE:Europe/Zurich
BEGIN:VEVENT
SUMMARY:Schulhaussprechstunde
DTSTART;TZID=Europe/Zurich;VALUE=DATE-TIME:20230118T130000
DTEND;TZID=Europe/Zurich;VALUE=DATE-TIME:20230118T170000
DTSTAMP;VALUE=DATE-TIME:20260421T110709Z
UID:040000008200E00074C5B7101A82E00800000000E00520BF3283D80100000000000000
 00100000006D9A4B6B4AE178439857104ECB033A6F
CREATED;VALUE=DATE-TIME:20220627T163416Z
DESCRIPTION: \n
LAST-MODIFIED;VALUE=DATE-TIME:20220627T165927Z
URL:https://www.sek-pratteln.ch/events/oeffentlich/schulhaussprechstunde-3
 0
END:VEVENT
BEGIN:VTIMEZONE
TZID:Europe/Zurich
X-LIC-LOCATION:Europe/Zurich
BEGIN:STANDARD
DTSTART;VALUE=DATE-TIME:20221030T020000
TZNAME:CET
TZOFFSETFROM:+0200
TZOFFSETTO:+0100
END:STANDARD
END:VTIMEZONE
END:VCALENDAR
