BEGIN:VCALENDAR
VERSION:2.0
PRODID:-//Plone.org//NONSGML plone.app.event//EN
X-WR-TIMEZONE:Europe/Zurich
BEGIN:VEVENT
SUMMARY:Schulhaussprechstunde fällt aus
DTSTART;TZID=Europe/Zurich;VALUE=DATE-TIME:20200211T130000
DTEND;TZID=Europe/Zurich;VALUE=DATE-TIME:20200211T160000
DTSTAMP;VALUE=DATE-TIME:20260421T110702Z
UID:040000008200E00074C5B7101A82E00800000000E0FDC7E2A531D50100000000000000
 001000000096016025A4BE564882F4039A5F007F8B
CREATED;VALUE=DATE-TIME:20190708T101841Z
DESCRIPTION:Die Schulhaussprechstunde wird um eine Woche verschoben und fi
 ndet am 18. Februar statt.
LAST-MODIFIED;VALUE=DATE-TIME:20200706T064358Z
URL:https://www.sek-pratteln.ch/events/oeffentlich/schulhaussprechstunde-3
END:VEVENT
BEGIN:VTIMEZONE
TZID:Europe/Zurich
X-LIC-LOCATION:Europe/Zurich
BEGIN:STANDARD
DTSTART;VALUE=DATE-TIME:20191027T020000
TZNAME:CET
TZOFFSETFROM:+0200
TZOFFSETTO:+0100
END:STANDARD
END:VTIMEZONE
END:VCALENDAR
