BEGIN:VCALENDAR
VERSION:2.0
PRODID:-//Plone.org//NONSGML plone.app.event//EN
X-WR-TIMEZONE:Europe/Zurich
BEGIN:VEVENT
SUMMARY:Schulhaussprechstunde
DTSTART;TZID=Europe/Zurich;VALUE=DATE-TIME:20221019T130000
DTEND;TZID=Europe/Zurich;VALUE=DATE-TIME:20221019T170000
DTSTAMP;VALUE=DATE-TIME:20260421T110707Z
UID:040000008200E00074C5B7101A82E00800000000007901372D83D80100000000000000
 0010000000591F2EBA1B126847922EFA8DA641D255
CREATED;VALUE=DATE-TIME:20220627T163407Z
DESCRIPTION: \n
LAST-MODIFIED;VALUE=DATE-TIME:20220627T170000Z
URL:https://www.sek-pratteln.ch/events/oeffentlich/schulhaussprechstunde-2
 7
END:VEVENT
BEGIN:VTIMEZONE
TZID:Europe/Zurich
X-LIC-LOCATION:Europe/Zurich
BEGIN:DAYLIGHT
DTSTART;VALUE=DATE-TIME:20220327T030000
TZNAME:CEST
TZOFFSETFROM:+0100
TZOFFSETTO:+0200
END:DAYLIGHT
END:VTIMEZONE
END:VCALENDAR
