BEGIN:VCALENDAR
VERSION:2.0
PRODID:-//Plone.org//NONSGML plone.app.event//EN
X-WR-TIMEZONE:Europe/Zurich
BEGIN:VEVENT
SUMMARY:Schulhaussprechstunde
DTSTART;TZID=Europe/Zurich;VALUE=DATE-TIME:20220330T130000
DTEND;TZID=Europe/Zurich;VALUE=DATE-TIME:20220330T170000
DTSTAMP;VALUE=DATE-TIME:20260421T110708Z
UID:040000008200E00074C5B7101A82E0080000000030F3B1C3A263D70100000000000000
 00100000002FA96ED3E587D64A827BF53A90274905
CREATED;VALUE=DATE-TIME:20210701T072624Z
LAST-MODIFIED;VALUE=DATE-TIME:20210701T072754Z
URL:https://www.sek-pratteln.ch/events/oeffentlich/schulhaussprechstunde-2
 4
END:VEVENT
BEGIN:VTIMEZONE
TZID:Europe/Zurich
X-LIC-LOCATION:Europe/Zurich
BEGIN:DAYLIGHT
DTSTART;VALUE=DATE-TIME:20220327T030000
TZNAME:CEST
TZOFFSETFROM:+0100
TZOFFSETTO:+0200
END:DAYLIGHT
END:VTIMEZONE
END:VCALENDAR
