BEGIN:VCALENDAR
VERSION:2.0
PRODID:-//Plone.org//NONSGML plone.app.event//EN
X-WR-TIMEZONE:Europe/Zurich
BEGIN:VEVENT
SUMMARY:Schulhaussprechstunde
DTSTART;TZID=Europe/Zurich;VALUE=DATE-TIME:20211208T130000
DTEND;TZID=Europe/Zurich;VALUE=DATE-TIME:20211208T170000
DTSTAMP;VALUE=DATE-TIME:20260421T104850Z
UID:040000008200E00074C5B7101A82E00800000000308A12F49D63D70100000000000000
 001000000034DC09726723BC4EBDF946C505E04AFA
CREATED;VALUE=DATE-TIME:20210701T072616Z
LAST-MODIFIED;VALUE=DATE-TIME:20210701T072815Z
URL:https://www.sek-pratteln.ch/events/oeffentlich/schulhaussprechstunde-2
 1
END:VEVENT
BEGIN:VTIMEZONE
TZID:Europe/Zurich
X-LIC-LOCATION:Europe/Zurich
BEGIN:STANDARD
DTSTART;VALUE=DATE-TIME:20211031T020000
TZNAME:CET
TZOFFSETFROM:+0200
TZOFFSETTO:+0100
END:STANDARD
END:VTIMEZONE
END:VCALENDAR
