BEGIN:VCALENDAR
VERSION:2.0
PRODID:-//Plone.org//NONSGML plone.app.event//EN
X-WR-TIMEZONE:Europe/Zurich
BEGIN:VEVENT
SUMMARY:Schulhaussprechstunde
DTSTART;TZID=Europe/Zurich;VALUE=DATE-TIME:20211124T130000
DTEND;TZID=Europe/Zurich;VALUE=DATE-TIME:20211124T170000
DTSTAMP;VALUE=DATE-TIME:20260421T110709Z
UID:040000008200E00074C5B7101A82E0080000000080A36A749D63D70100000000000000
 00100000007A8DC3086189B146A42B71106095AFBD
CREATED;VALUE=DATE-TIME:20210701T072615Z
LAST-MODIFIED;VALUE=DATE-TIME:20210701T072815Z
URL:https://www.sek-pratteln.ch/events/oeffentlich/schulhaussprechstunde-2
 0
END:VEVENT
BEGIN:VTIMEZONE
TZID:Europe/Zurich
X-LIC-LOCATION:Europe/Zurich
BEGIN:STANDARD
DTSTART;VALUE=DATE-TIME:20211031T020000
TZNAME:CET
TZOFFSETFROM:+0200
TZOFFSETTO:+0100
END:STANDARD
END:VTIMEZONE
END:VCALENDAR
