BEGIN:VCALENDAR
VERSION:2.0
PRODID:-//Plone.org//NONSGML plone.app.event//EN
X-WR-TIMEZONE:Europe/Zurich
BEGIN:VEVENT
SUMMARY:Schulhaussprechstunde
DTSTART;TZID=Europe/Zurich;VALUE=DATE-TIME:20201209T130000
DTEND;TZID=Europe/Zurich;VALUE=DATE-TIME:20201209T160000
DTSTAMP;VALUE=DATE-TIME:20260421T110709Z
UID:040000008200E00074C5B7101A82E00800000000B0FCAE57164AD60100000000000000
 00100000002ACC95366E3D524F98F33D128C0AB385
CREATED;VALUE=DATE-TIME:20200706T062848Z
LAST-MODIFIED;VALUE=DATE-TIME:20200706T064405Z
URL:https://www.sek-pratteln.ch/events/oeffentlich/schulhaussprechstunde-1
 4
END:VEVENT
BEGIN:VTIMEZONE
TZID:Europe/Zurich
X-LIC-LOCATION:Europe/Zurich
BEGIN:STANDARD
DTSTART;VALUE=DATE-TIME:20201025T020000
TZNAME:CET
TZOFFSETFROM:+0200
TZOFFSETTO:+0100
END:STANDARD
END:VTIMEZONE
END:VCALENDAR
