BEGIN:VCALENDAR
VERSION:2.0
PRODID:-//Plone.org//NONSGML plone.app.event//EN
X-WR-TIMEZONE:Europe/Zurich
BEGIN:VEVENT
SUMMARY:Schulhaussprechstunde 13:00-17:00h
DTSTART;TZID=Europe/Zurich;VALUE=DATE-TIME:20240911T130000
DTEND;TZID=Europe/Zurich;VALUE=DATE-TIME:20240911T170000
DTSTAMP;VALUE=DATE-TIME:20260421T111140Z
UID:040000008200E00074C5B7101A82E00800000000D0523A1535C2DA0100000000000000
 00100000002F9EDCE5DA7BD24E930B3C8599720A79
CREATED;VALUE=DATE-TIME:20240627T145121Z
LAST-MODIFIED;VALUE=DATE-TIME:20240627T145437Z
URL:https://www.sek-pratteln.ch/events/oeffentlich/schulhaussprechstunde-1
 3-00-17-00h-9
END:VEVENT
BEGIN:VTIMEZONE
TZID:Europe/Zurich
X-LIC-LOCATION:Europe/Zurich
BEGIN:DAYLIGHT
DTSTART;VALUE=DATE-TIME:20240331T030000
TZNAME:CEST
TZOFFSETFROM:+0100
TZOFFSETTO:+0200
END:DAYLIGHT
END:VTIMEZONE
END:VCALENDAR
