BEGIN:VCALENDAR
VERSION:2.0
PRODID:-//Plone.org//NONSGML plone.app.event//EN
X-WR-TIMEZONE:Europe/Zurich
BEGIN:VEVENT
SUMMARY:Schulhaussprechstunde 13:00-17:00h
DTSTART;TZID=Europe/Zurich;VALUE=DATE-TIME:20241030T130000
DTEND;TZID=Europe/Zurich;VALUE=DATE-TIME:20241030T170000
DTSTAMP;VALUE=DATE-TIME:20260421T111139Z
UID:040000008200E00074C5B7101A82E008000000004098791937C2DA0100000000000000
 00100000003C1E5D9AF3DF834A8B8436D7564B2DA2
CREATED;VALUE=DATE-TIME:20240627T145120Z
LAST-MODIFIED;VALUE=DATE-TIME:20240627T145437Z
URL:https://www.sek-pratteln.ch/events/oeffentlich/schulhaussprechstunde-1
 3-00-17-00h-8
END:VEVENT
BEGIN:VTIMEZONE
TZID:Europe/Zurich
X-LIC-LOCATION:Europe/Zurich
BEGIN:STANDARD
DTSTART;VALUE=DATE-TIME:20241027T020000
TZNAME:CET
TZOFFSETFROM:+0200
TZOFFSETTO:+0100
END:STANDARD
END:VTIMEZONE
END:VCALENDAR
