BEGIN:VCALENDAR
VERSION:2.0
PRODID:-//Plone.org//NONSGML plone.app.event//EN
X-WR-TIMEZONE:Europe/Zurich
BEGIN:VEVENT
SUMMARY:Schulhaussprechstunde 13:00-17:00h
DTSTART;TZID=Europe/Zurich;VALUE=DATE-TIME:20250219T130000
DTEND;TZID=Europe/Zurich;VALUE=DATE-TIME:20250219T170000
DTSTAMP;VALUE=DATE-TIME:20260419T152517Z
UID:040000008200E00074C5B7101A82E00800000000100FD5A337C2DA0100000000000000
 0010000000899004BC34751540B93CAFFC41E91A1B
CREATED;VALUE=DATE-TIME:20240627T145118Z
LAST-MODIFIED;VALUE=DATE-TIME:20240627T145436Z
URL:https://www.sek-pratteln.ch/events/oeffentlich/schulhaussprechstunde-1
 3-00-17-00h-4
END:VEVENT
BEGIN:VTIMEZONE
TZID:Europe/Zurich
X-LIC-LOCATION:Europe/Zurich
BEGIN:STANDARD
DTSTART;VALUE=DATE-TIME:20241027T020000
TZNAME:CET
TZOFFSETFROM:+0200
TZOFFSETTO:+0100
END:STANDARD
END:VTIMEZONE
END:VCALENDAR
