BEGIN:VCALENDAR
VERSION:2.0
PRODID:-//Plone.org//NONSGML plone.app.event//EN
X-WR-TIMEZONE:Europe/Zurich
BEGIN:VEVENT
SUMMARY:Schulhaussprechstunde 13:00-17:00h
DTSTART;TZID=Europe/Zurich;VALUE=DATE-TIME:20250402T130000
DTEND;TZID=Europe/Zurich;VALUE=DATE-TIME:20250402T170000
DTSTAMP;VALUE=DATE-TIME:20260421T111140Z
UID:040000008200E00074C5B7101A82E0080000000070876AB837C2DA0100000000000000
 00100000009B2CDC2482EC9343A77EF9B3CFE3917F
CREATED;VALUE=DATE-TIME:20240627T145118Z
DESCRIPTION:None
LAST-MODIFIED;VALUE=DATE-TIME:20250127T103733Z
URL:https://www.sek-pratteln.ch/events/oeffentlich/schulhaussprechstunde-1
 3-00-17-00h-3
END:VEVENT
BEGIN:VTIMEZONE
TZID:Europe/Zurich
X-LIC-LOCATION:Europe/Zurich
BEGIN:DAYLIGHT
DTSTART;VALUE=DATE-TIME:20250330T030000
TZNAME:CEST
TZOFFSETFROM:+0100
TZOFFSETTO:+0200
END:DAYLIGHT
END:VTIMEZONE
END:VCALENDAR
