BEGIN:VCALENDAR
VERSION:2.0
PRODID:-//Plone.org//NONSGML plone.app.event//EN
X-WR-TIMEZONE:Europe/Zurich
BEGIN:VEVENT
SUMMARY:Schulhaussprechstunde 13:00-17:00h
DTSTART;TZID=Europe/Zurich;VALUE=DATE-TIME:20250430T130000
DTEND;TZID=Europe/Zurich;VALUE=DATE-TIME:20250430T170000
DTSTAMP;VALUE=DATE-TIME:20260421T111140Z
UID:040000008200E00074C5B7101A82E00800000000B0D03ED337C2DA0100000000000000
 00100000006FCA49D024BA704FA86FC1A3167BCEE0
CREATED;VALUE=DATE-TIME:20240627T145117Z
LAST-MODIFIED;VALUE=DATE-TIME:20240627T145436Z
URL:https://www.sek-pratteln.ch/events/oeffentlich/schulhaussprechstunde-1
 3-00-17-00h-2
END:VEVENT
BEGIN:VTIMEZONE
TZID:Europe/Zurich
X-LIC-LOCATION:Europe/Zurich
BEGIN:DAYLIGHT
DTSTART;VALUE=DATE-TIME:20250330T030000
TZNAME:CEST
TZOFFSETFROM:+0100
TZOFFSETTO:+0200
END:DAYLIGHT
END:VTIMEZONE
END:VCALENDAR
