BEGIN:VCALENDAR
VERSION:2.0
PRODID:-//Plone.org//NONSGML plone.app.event//EN
X-WR-TIMEZONE:Europe/Zurich
BEGIN:VEVENT
SUMMARY:Schulhaussprechstunde
DTSTART;TZID=Europe/Zurich;VALUE=DATE-TIME:20200428T130000
DTEND;TZID=Europe/Zurich;VALUE=DATE-TIME:20200428T160000
DTSTAMP;VALUE=DATE-TIME:20260421T150500Z
UID:040000008200E00074C5B7101A82E008000000004038189DA631D50100000000000000
 00100000003CFFDD0EEFE9074BAEE4C9F66C33E49C
CREATED;VALUE=DATE-TIME:20190708T101838Z
DESCRIPTION:\n\n
LAST-MODIFIED;VALUE=DATE-TIME:20200706T064358Z
URL:https://www.sek-pratteln.ch/events/oeffentlich/schulhaussprechstunde-1
END:VEVENT
BEGIN:VTIMEZONE
TZID:Europe/Zurich
X-LIC-LOCATION:Europe/Zurich
BEGIN:DAYLIGHT
DTSTART;VALUE=DATE-TIME:20200329T030000
TZNAME:CEST
TZOFFSETFROM:+0100
TZOFFSETTO:+0200
END:DAYLIGHT
END:VTIMEZONE
END:VCALENDAR
