BEGIN:VCALENDAR
VERSION:2.0
PRODID:-//Plone.org//NONSGML plone.app.event//EN
X-WR-TIMEZONE:Europe/Zurich
BEGIN:VEVENT
SUMMARY:Schulgesundheitliche Untersuchung 2. Klassen
DTSTART;VALUE=DATE:20220117
DTEND;VALUE=DATE:20220122
DTSTAMP;VALUE=DATE-TIME:20260421T080957Z
UID:d540ed2ead8c4e738ae7c0d6fd2cf908@82.220.37.140:8081
CONTACT:Michael Lüscher
CREATED;VALUE=DATE-TIME:20211102T153933Z
LAST-MODIFIED;VALUE=DATE-TIME:20211102T153939Z
URL:https://www.sek-pratteln.ch/events/oeffentlich/schulgesundheitliche-un
 tersuchung-2-klassen
END:VEVENT
END:VCALENDAR
