BEGIN:VCALENDAR
VERSION:2.0
PRODID:-//Plone.org//NONSGML plone.app.event//EN
X-WR-TIMEZONE:Europe/Zurich
BEGIN:VEVENT
SUMMARY:Schulgesundheitliche Untersuchung 2. Klassen
DTSTART;TZID=Europe/Zurich;VALUE=DATE-TIME:20220210T073000
DTEND;TZID=Europe/Zurich;VALUE=DATE-TIME:20220210T120000
DTSTAMP;VALUE=DATE-TIME:20260421T111215Z
UID:131251c18f4348e4ac68cfe350ea5c0b@82.220.37.140:8081
CREATED;VALUE=DATE-TIME:20211102T154148Z
LAST-MODIFIED;VALUE=DATE-TIME:20211102T154152Z
URL:https://www.sek-pratteln.ch/events/oeffentlich/schulgesundheitliche-un
 tersuchung-2-klassen-1
END:VEVENT
BEGIN:VTIMEZONE
TZID:Europe/Zurich
X-LIC-LOCATION:Europe/Zurich
BEGIN:STANDARD
DTSTART;VALUE=DATE-TIME:20211031T020000
TZNAME:CET
TZOFFSETFROM:+0200
TZOFFSETTO:+0100
END:STANDARD
END:VTIMEZONE
END:VCALENDAR
