BEGIN:VCALENDAR
VERSION:2.0
PRODID:-//Plone.org//NONSGML plone.app.event//EN
X-WR-TIMEZONE:Europe/Zurich
BEGIN:VEVENT
SUMMARY:Schulbesuchstage alle Klassen
DTSTART;VALUE=DATE:20161124
DTEND;VALUE=DATE:20161126
DTSTAMP;VALUE=DATE-TIME:20260421T110939Z
UID:040000008200E00074C5B7101A82E00800000000D00272CD41D8D10100000000000000
 0010000000F16BF1DF0FD92148A66763B19506559F
CREATED;VALUE=DATE-TIME:20160712T121558Z
DESCRIPTION:None
LAST-MODIFIED;VALUE=DATE-TIME:20200706T064347Z
URL:https://www.sek-pratteln.ch/events/oeffentlich/schulbesuchstage-alle-k
 lassen
END:VEVENT
END:VCALENDAR
