BEGIN:VCALENDAR
VERSION:2.0
PRODID:-//Plone.org//NONSGML plone.app.event//EN
X-WR-TIMEZONE:Europe/Zurich
BEGIN:VEVENT
SUMMARY:Schulbesuchstage
DTSTART;VALUE=DATE:20151210
DTEND;VALUE=DATE:20151212
DTSTAMP;VALUE=DATE-TIME:20260421T110747Z
UID:040000008200E00074C5B7101A82E0080000000060938D67338FD00100000000000000
 0010000000ADA77F1A8EC1844F9526DA12F3A5C03D
CREATED;VALUE=DATE-TIME:20150710T073751Z
LAST-MODIFIED;VALUE=DATE-TIME:20200706T064342Z
URL:https://www.sek-pratteln.ch/events/oeffentlich/schulbesuchstage-10-11-
 12
END:VEVENT
END:VCALENDAR
