BEGIN:VCALENDAR
VERSION:2.0
PRODID:-//Plone.org//NONSGML plone.app.event//EN
X-WR-TIMEZONE:Europe/Zurich
BEGIN:VEVENT
SUMMARY:Schulbesuchstag Schulrat
DTSTART;VALUE=DATE:20151127
DTEND;VALUE=DATE:20151128
DTSTAMP;VALUE=DATE-TIME:20260421T115216Z
UID:040000008200E00074C5B7101A82E0080000000010DE3B3D7191D00100000000000000
 0010000000B4B75AA072EE02499322B9AAC892069B
CREATED;VALUE=DATE-TIME:20150710T073753Z
DESCRIPTION:\n
LAST-MODIFIED;VALUE=DATE-TIME:20200706T064342Z
URL:https://www.sek-pratteln.ch/events/oeffentlich/schulbesuchstag-schulra
 t
END:VEVENT
END:VCALENDAR
