BEGIN:VCALENDAR
VERSION:2.0
PRODID:-//Plone.org//NONSGML plone.app.event//EN
X-WR-TIMEZONE:Europe/Zurich
BEGIN:VEVENT
SUMMARY:Schulbesuchstag 1. Klassen
DTSTART;VALUE=DATE:20160921
DTEND;VALUE=DATE:20160922
DTSTAMP;VALUE=DATE-TIME:20260421T110816Z
UID:040000008200E00074C5B7101A82E008000000000074967751D1D10100000000000000
 00100000004357FC39ECEF404E91A2BE76EA24A1CD
CREATED;VALUE=DATE-TIME:20160712T121552Z
LAST-MODIFIED;VALUE=DATE-TIME:20200706T064346Z
URL:https://www.sek-pratteln.ch/events/oeffentlich/schulbesuchstag-1-klass
 en
END:VEVENT
END:VCALENDAR
