BEGIN:VCALENDAR
VERSION:2.0
PRODID:-//Plone.org//NONSGML plone.app.event//EN
X-WR-TIMEZONE:Europe/Zurich
BEGIN:VEVENT
SUMMARY:Schulbesuch aus Lenzburg
DTSTART;TZID=Europe/Zurich;VALUE=DATE-TIME:20240605T083000
DTEND;TZID=Europe/Zurich;VALUE=DATE-TIME:20240605T120000
DTSTAMP;VALUE=DATE-TIME:20260421T111113Z
UID:0590c9cabec142039f4c09d3ede88b3f@82.220.37.140:8081
CREATED;VALUE=DATE-TIME:20240321T083732Z
LAST-MODIFIED;VALUE=DATE-TIME:20240321T083741Z
LOCATION:Schulleitung\, Sitzungszimmer
URL:https://www.sek-pratteln.ch/events/oeffentlich/schulbesuch-aus-lenzbur
 g
END:VEVENT
BEGIN:VTIMEZONE
TZID:Europe/Zurich
X-LIC-LOCATION:Europe/Zurich
BEGIN:DAYLIGHT
DTSTART;VALUE=DATE-TIME:20240331T030000
TZNAME:CEST
TZOFFSETFROM:+0100
TZOFFSETTO:+0200
END:DAYLIGHT
END:VTIMEZONE
END:VCALENDAR
