BEGIN:VCALENDAR
VERSION:2.0
PRODID:-//Plone.org//NONSGML plone.app.event//EN
X-WR-TIMEZONE:Europe/Zurich
BEGIN:VEVENT
SUMMARY:Schulbeginn
DTSTART;TZID=Europe/Zurich;VALUE=DATE-TIME:20150817T083000
DTEND;TZID=Europe/Zurich;VALUE=DATE-TIME:20150817T095500
DTSTAMP;VALUE=DATE-TIME:20260421T110248Z
UID:040000008200E00074C5B7101A82E00800000000A036AEF32F8FD00100000000000000
 00100000005F709E1268495B489D748E0E89A929E9
CREATED;VALUE=DATE-TIME:20150710T073750Z
DESCRIPTION:\n
LAST-MODIFIED;VALUE=DATE-TIME:20200706T064341Z
LOCATION:Sternmarsch - Information Klassenlehrperson
URL:https://www.sek-pratteln.ch/events/oeffentlich/schulbeginn
END:VEVENT
BEGIN:VTIMEZONE
TZID:Europe/Zurich
X-LIC-LOCATION:Europe/Zurich
BEGIN:DAYLIGHT
DTSTART;VALUE=DATE-TIME:20150329T030000
TZNAME:CEST
TZOFFSETFROM:+0100
TZOFFSETTO:+0200
END:DAYLIGHT
END:VTIMEZONE
END:VCALENDAR
