BEGIN:VCALENDAR
VERSION:2.0
PRODID:-//Plone.org//NONSGML plone.app.event//EN
X-WR-TIMEZONE:Europe/Zurich
BEGIN:VEVENT
SUMMARY:Schulband-Contest
DTSTART;TZID=Europe/Zurich;VALUE=DATE-TIME:20180315T120000
DTEND;TZID=Europe/Zurich;VALUE=DATE-TIME:20180315T140000
DTSTAMP;VALUE=DATE-TIME:20260421T110551Z
UID:593c1b449ad6471ba428ee638ea76cbb@5.35.252.84:8090
CONTACT:mas
CREATED;VALUE=DATE-TIME:20180305T133222Z
DESCRIPTION:Du möchtest in der Schulband spielen? Dann zeig dein Können.
LAST-MODIFIED;VALUE=DATE-TIME:20200706T064352Z
LOCATION:Aula B-Trakt
URL:https://www.sek-pratteln.ch/events/oeffentlich/schulband-contest
END:VEVENT
BEGIN:VTIMEZONE
TZID:Europe/Zurich
X-LIC-LOCATION:Europe/Zurich
BEGIN:STANDARD
DTSTART;VALUE=DATE-TIME:20171029T020000
TZNAME:CET
TZOFFSETFROM:+0200
TZOFFSETTO:+0100
END:STANDARD
END:VTIMEZONE
END:VCALENDAR
