BEGIN:VCALENDAR
VERSION:2.0
PRODID:-//Plone.org//NONSGML plone.app.event//EN
X-WR-TIMEZONE:Europe/Zurich
BEGIN:VEVENT
SUMMARY:schulärztliche Impfkontrolle 2. Kl.
DTSTART;VALUE=DATE:20251201
DTEND;VALUE=DATE:20251202
DTSTAMP;VALUE=DATE-TIME:20260419T214353Z
UID:040000008200E00074C5B7101A82E00800000000D06B4BC125D2DB0100000000000000
 00100000004379C99F69E2424FA67EC399013F1398
CREATED;VALUE=DATE-TIME:20250611T084850Z
LAST-MODIFIED;VALUE=DATE-TIME:20250611T085809Z
URL:https://www.sek-pratteln.ch/events/oeffentlich/schulaerztliche-impfkon
 trolle-2-kl
END:VEVENT
END:VCALENDAR
