BEGIN:VCALENDAR
VERSION:2.0
PRODID:-//Plone.org//NONSGML plone.app.event//EN
X-WR-TIMEZONE:Europe/Zurich
BEGIN:VEVENT
SUMMARY:Schulärztl. Online-Selbsttest 2. Klassen (Impfausweise od. Kopien
  einsammeln)
DTSTART;VALUE=DATE:20251027
DTEND;VALUE=DATE:20251101
DTSTAMP;VALUE=DATE-TIME:20260419T152150Z
UID:040000008200E00074C5B7101A82E00800000000204400401FD2DB0100000000000000
 0010000000274DF88FE17AA94EB48E7EB77532D8BE
CREATED;VALUE=DATE-TIME:20250611T084907Z
LAST-MODIFIED;VALUE=DATE-TIME:20250611T085728Z
URL:https://www.sek-pratteln.ch/events/oeffentlich/schulaerztl-online-selb
 sttest-2-klassen-impfausweise-od-kopien-einsammeln
END:VEVENT
END:VCALENDAR
