BEGIN:VCALENDAR
VERSION:2.0
PRODID:-//Plone.org//NONSGML plone.app.event//EN
X-WR-TIMEZONE:Europe/Zurich
BEGIN:VEVENT
SUMMARY:Schul-/Abschlussreisetag
DTSTART;VALUE=DATE:20250625
DTEND;VALUE=DATE:20250626
DTSTAMP;VALUE=DATE-TIME:20260421T110924Z
UID:040000008200E00074C5B7101A82E0080000000000C1AC7046C2DA0100000000000000
 001000000066AC6B427CE4954C972AFD669C4A218D
CREATED;VALUE=DATE-TIME:20240627T145044Z
LAST-MODIFIED;VALUE=DATE-TIME:20240627T145631Z
URL:https://www.sek-pratteln.ch/events/oeffentlich/schul-abschlussreisetag
END:VEVENT
END:VCALENDAR
