BEGIN:VCALENDAR
VERSION:2.0
PRODID:-//Plone.org//NONSGML plone.app.event//EN
X-WR-TIMEZONE:Europe/Zurich
BEGIN:VEVENT
SUMMARY:Schnupperwoche 2A
DTSTART;VALUE=DATE:20180423
DTEND;VALUE=DATE:20180428
DTSTAMP;VALUE=DATE-TIME:20260421T101140Z
UID:5d4052456cc84005989cf1e8994e50ff@5.35.252.84:8090
CREATED;VALUE=DATE-TIME:20170704T063342Z
LAST-MODIFIED;VALUE=DATE-TIME:20200706T064351Z
URL:https://www.sek-pratteln.ch/events/oeffentlich/schnupperwoche-2a
END:VEVENT
END:VCALENDAR
