BEGIN:VCALENDAR
VERSION:2.0
PRODID:-//Plone.org//NONSGML plone.app.event//EN
X-WR-TIMEZONE:Europe/Zurich
BEGIN:VEVENT
SUMMARY:Schnupperwoche 2A
DTSTART;VALUE=DATE:20240318
DTEND;VALUE=DATE:20240323
DTSTAMP;VALUE=DATE-TIME:20260421T110538Z
UID:040000008200E00074C5B7101A82E00800000000702C553A36A4D90100000000000000
 0010000000320812076EF34E4C878E522D09A089D7
CREATED;VALUE=DATE-TIME:20230626T125558Z
LAST-MODIFIED;VALUE=DATE-TIME:20230626T125904Z
URL:https://www.sek-pratteln.ch/events/oeffentlich/schnupperwoche-2a-4
END:VEVENT
END:VCALENDAR
