BEGIN:VCALENDAR
VERSION:2.0
PRODID:-//Plone.org//NONSGML plone.app.event//EN
X-WR-TIMEZONE:Europe/Zurich
BEGIN:VEVENT
SUMMARY:Schnupperwoche 2A
DTSTART;VALUE=DATE:20230327
DTEND;VALUE=DATE:20230401
DTSTAMP;VALUE=DATE-TIME:20260421T110538Z
UID:040000008200E00074C5B7101A82E00800000000908D56041683D80100000000000000
 00100000002A4517DA4647584984DC04D7BEE166C1
CREATED;VALUE=DATE-TIME:20220627T163357Z
DESCRIPTION: \n
LAST-MODIFIED;VALUE=DATE-TIME:20220627T170019Z
URL:https://www.sek-pratteln.ch/events/oeffentlich/schnupperwoche-2a-3
END:VEVENT
END:VCALENDAR
