BEGIN:VCALENDAR
VERSION:2.0
PRODID:-//Plone.org//NONSGML plone.app.event//EN
X-WR-TIMEZONE:Europe/Zurich
BEGIN:VEVENT
SUMMARY:Schnupperwoche 2A
DTSTART;VALUE=DATE:20210322
DTEND;VALUE=DATE:20210327
DTSTAMP;VALUE=DATE-TIME:20260421T110541Z
UID:040000008200E00074C5B7101A82E00800000000D0EE73761B4AD60100000000000000
 0010000000DDF9BA61A57D874DA8515210812D5C0D
CREATED;VALUE=DATE-TIME:20200706T062835Z
LAST-MODIFIED;VALUE=DATE-TIME:20200706T064404Z
URL:https://www.sek-pratteln.ch/events/oeffentlich/schnupperwoche-2a-2
END:VEVENT
END:VCALENDAR
