BEGIN:VCALENDAR
VERSION:2.0
PRODID:-//Plone.org//NONSGML plone.app.event//EN
X-WR-TIMEZONE:Europe/Zurich
BEGIN:VEVENT
SUMMARY:Schneesportlager/Projektwoche
DTSTART;VALUE=DATE:20170109
DTEND;VALUE=DATE:20170114
DTSTAMP;VALUE=DATE-TIME:20260421T111142Z
UID:040000008200E00074C5B7101A82E00800000000E022D30D81DBD10100000000000000
 00100000008DC9442D5733B04E8754B584964E0202
CREATED;VALUE=DATE-TIME:20160712T121531Z
LAST-MODIFIED;VALUE=DATE-TIME:20200706T064345Z
URL:https://www.sek-pratteln.ch/events/oeffentlich/schneesportlager-projek
 twoche
END:VEVENT
END:VCALENDAR
