BEGIN:VCALENDAR
VERSION:2.0
PRODID:-//Plone.org//NONSGML plone.app.event//EN
X-WR-TIMEZONE:Europe/Zurich
BEGIN:VEVENT
SUMMARY:Schachturnier 15:30-17:30
DTSTART;TZID=Europe/Zurich;VALUE=DATE-TIME:20250318T153000
DTEND;TZID=Europe/Zurich;VALUE=DATE-TIME:20250318T173000
DTSTAMP;VALUE=DATE-TIME:20260421T110818Z
UID:040000008200E00074C5B7101A82E0080000000070E213583EC2DA0100000000000000
 0010000000A2EBB7BFE5372F40BFB41936195B13B0
CREATED;VALUE=DATE-TIME:20240627T145101Z
LAST-MODIFIED;VALUE=DATE-TIME:20240627T145633Z
LOCATION:Bibliothek
URL:https://www.sek-pratteln.ch/events/oeffentlich/schachturnier-15-30-17-
 30
END:VEVENT
BEGIN:VTIMEZONE
TZID:Europe/Zurich
X-LIC-LOCATION:Europe/Zurich
BEGIN:STANDARD
DTSTART;VALUE=DATE-TIME:20241027T020000
TZNAME:CET
TZOFFSETFROM:+0200
TZOFFSETTO:+0100
END:STANDARD
END:VTIMEZONE
END:VCALENDAR
