BEGIN:VCALENDAR
VERSION:2.0
PRODID:-//Plone.org//NONSGML plone.app.event//EN
X-WR-TIMEZONE:Europe/Zurich
BEGIN:VEVENT
SUMMARY:Projektwoche 14.-18.09.15
DTSTART;VALUE=DATE:20150914
DTEND;VALUE=DATE:20150919
DTSTAMP;VALUE=DATE-TIME:20260419T214155Z
UID:040000008200E00074C5B7101A82E00800000000F0E0F6A7298FD00100000000000000
 0010000000AC90F3C7B251964CBE6AA3E64C98815A
CREATED;VALUE=DATE-TIME:20150710T073747Z
DESCRIPTION:\n\n\n
LAST-MODIFIED;VALUE=DATE-TIME:20200706T064341Z
URL:https://www.sek-pratteln.ch/events/oeffentlich/projektwoche-14-18-09.1
 5
END:VEVENT
END:VCALENDAR
