BEGIN:VCALENDAR
VERSION:2.0
PRODID:-//Plone.org//NONSGML plone.app.event//EN
X-WR-TIMEZONE:Europe/Zurich
BEGIN:VEVENT
SUMMARY:Projekttage
DTSTART;VALUE=DATE:20180507
DTEND;VALUE=DATE:20180510
DTSTAMP;VALUE=DATE-TIME:20260421T110336Z
UID:040000008200E00074C5B7101A82E00800000000F0CC58E7EFE8D20100000000000000
 0010000000724BDED2A6654247ABF394CCEABA3631
CREATED;VALUE=DATE-TIME:20170623T094921Z
LAST-MODIFIED;VALUE=DATE-TIME:20200706T064351Z
URL:https://www.sek-pratteln.ch/events/oeffentlich/projekttage
END:VEVENT
END:VCALENDAR
