BEGIN:VCALENDAR
VERSION:2.0
PRODID:-//Plone.org//NONSGML plone.app.event//EN
X-WR-TIMEZONE:Europe/Zurich
BEGIN:VEVENT
SUMMARY:Projektstart Herzsprung
DTSTART;VALUE=DATE:20241202
DTEND;VALUE=DATE:20241203
DTSTAMP;VALUE=DATE-TIME:20260421T110610Z
UID:040000008200E00074C5B7101A82E0080000000080F8F30C3DC2DA0100000000000000
 001000000004B21C21B5A3374FB8CD448C929DA888
CREATED;VALUE=DATE-TIME:20240627T145105Z
LAST-MODIFIED;VALUE=DATE-TIME:20240627T145510Z
URL:https://www.sek-pratteln.ch/events/oeffentlich/projektstart-herzsprung
END:VEVENT
END:VCALENDAR
