BEGIN:VCALENDAR
VERSION:2.0
PRODID:-//Plone.org//NONSGML plone.app.event//EN
X-WR-TIMEZONE:Europe/Zurich
BEGIN:VEVENT
SUMMARY:Projektstart Herzsprung 8. Klassen (Gruppe 2)
DTSTART;VALUE=DATE:20240205
DTEND;VALUE=DATE:20240206
DTSTAMP;VALUE=DATE-TIME:20260421T111140Z
UID:040000008200E00074C5B7101A82E00800000000D09D7DD235A4D90100000000000000
 0010000000120D5B3D998074488442A147E6E9298A
CREATED;VALUE=DATE-TIME:20230626T125559Z
LAST-MODIFIED;VALUE=DATE-TIME:20230626T125848Z
URL:https://www.sek-pratteln.ch/events/oeffentlich/projektstart-herzsprung
 -8-klassen-gruppe-2
END:VEVENT
END:VCALENDAR
