BEGIN:VCALENDAR
VERSION:2.0
PRODID:-//Plone.org//NONSGML plone.app.event//EN
X-WR-TIMEZONE:Europe/Zurich
BEGIN:VEVENT
SUMMARY:Projektstart Herzsprung
DTSTART;VALUE=DATE:20251201
DTEND;VALUE=DATE:20251202
DTSTAMP;VALUE=DATE-TIME:20260421T110925Z
UID:040000008200E00074C5B7101A82E00800000000602504AD23D2DB0100000000000000
 0010000000CE3073E735C0C44E9F7F66D6211FEF9D
CREATED;VALUE=DATE-TIME:20250611T084855Z
LAST-MODIFIED;VALUE=DATE-TIME:20250611T085745Z
URL:https://www.sek-pratteln.ch/events/oeffentlich/projektstart-herzsprung
 -1
END:VEVENT
END:VCALENDAR
