BEGIN:VCALENDAR
VERSION:2.0
PRODID:-//Plone.org//NONSGML plone.app.event//EN
X-WR-TIMEZONE:Europe/Zurich
BEGIN:VEVENT
SUMMARY:Projektende Herzsprung
DTSTART;VALUE=DATE:20250124
DTEND;VALUE=DATE:20250125
DTSTAMP;VALUE=DATE-TIME:20260421T110922Z
UID:040000008200E00074C5B7101A82E00800000000C0733D213DC2DA0100000000000000
 00100000005C77707F1ED35C4E99853A0E6E0B260E
CREATED;VALUE=DATE-TIME:20240627T145104Z
LAST-MODIFIED;VALUE=DATE-TIME:20240627T145510Z
URL:https://www.sek-pratteln.ch/events/oeffentlich/projektende-herzsprung
END:VEVENT
END:VCALENDAR
