BEGIN:VCALENDAR
VERSION:2.0
PRODID:-//Plone.org//NONSGML plone.app.event//EN
X-WR-TIMEZONE:Europe/Zurich
BEGIN:VEVENT
SUMMARY:Projektende Herzsprung 8. Klassen (Gruppe 2)
DTSTART;VALUE=DATE:20240322
DTEND;VALUE=DATE:20240323
DTSTAMP;VALUE=DATE-TIME:20260421T111217Z
UID:040000008200E00074C5B7101A82E00800000000A03FF35336A4D90100000000000000
 00100000005C3A2D30C1E5594EB5D5416CC7C2A8C9
CREATED;VALUE=DATE-TIME:20230626T125557Z
LAST-MODIFIED;VALUE=DATE-TIME:20230626T125904Z
URL:https://www.sek-pratteln.ch/events/oeffentlich/projektende-herzsprung-
 8-klassen-gruppe-2
END:VEVENT
END:VCALENDAR
