BEGIN:VCALENDAR
VERSION:2.0
PRODID:-//Plone.org//NONSGML plone.app.event//EN
X-WR-TIMEZONE:Europe/Zurich
BEGIN:VEVENT
SUMMARY:Projektende Herzsprung 8. Klassen (Gruppe 1)
DTSTART;VALUE=DATE:20240126
DTEND;VALUE=DATE:20240127
DTSTAMP;VALUE=DATE-TIME:20260421T105710Z
UID:040000008200E00074C5B7101A82E00800000000A08029A635A4D90100000000000000
 00100000002F4E734CCDC80F4E925E6B9F0D2BD10D
CREATED;VALUE=DATE-TIME:20230626T125600Z
LAST-MODIFIED;VALUE=DATE-TIME:20230626T125848Z
URL:https://www.sek-pratteln.ch/events/oeffentlich/projektende-herzsprung-
 8-klassen-gruppe-1
END:VEVENT
END:VCALENDAR
