BEGIN:VCALENDAR
VERSION:2.0
PRODID:-//Plone.org//NONSGML plone.app.event//EN
X-WR-TIMEZONE:Europe/Zurich
BEGIN:VEVENT
SUMMARY:1.\, 2. Kl.: Programm nach Stundenplan bis 14:00h
DTSTART;TZID=Europe/Zurich;VALUE=DATE-TIME:20220701T073000
DTEND;TZID=Europe/Zurich;VALUE=DATE-TIME:20220701T140000
DTSTAMP;VALUE=DATE-TIME:20260421T110703Z
UID:040000008200E00074C5B7101A82E00800000000306CD26D9663D70100000000000000
 0010000000BE407CCC9AAFFD458C67FAB427D154BD
CREATED;VALUE=DATE-TIME:20210701T072606Z
DESCRIPTION:None
LAST-MODIFIED;VALUE=DATE-TIME:20220518T100617Z
URL:https://www.sek-pratteln.ch/events/oeffentlich/programm-klassenweise-b
 is-14-00h
END:VEVENT
BEGIN:VTIMEZONE
TZID:Europe/Zurich
X-LIC-LOCATION:Europe/Zurich
BEGIN:DAYLIGHT
DTSTART;VALUE=DATE-TIME:20220327T030000
TZNAME:CEST
TZOFFSETFROM:+0100
TZOFFSETTO:+0200
END:DAYLIGHT
END:VTIMEZONE
END:VCALENDAR
