BEGIN:VCALENDAR
VERSION:2.0
PRODID:-//Plone.org//NONSGML plone.app.event//EN
X-WR-TIMEZONE:Europe/Zurich
BEGIN:VEVENT
SUMMARY:Programm klassenweise bis 14:00
DTSTART;VALUE=DATE:20210702
DTEND;VALUE=DATE:20210703
DTSTAMP;VALUE=DATE-TIME:20260419T152527Z
UID:040000008200E00074C5B7101A82E00800000000301062858D45D60100000000000000
 00100000005737BAA96DD54145BC4433C26A68C880
CREATED;VALUE=DATE-TIME:20200706T062905Z
LAST-MODIFIED;VALUE=DATE-TIME:20200706T064407Z
URL:https://www.sek-pratteln.ch/events/oeffentlich/programm-klassenweise-b
 is-14-00
END:VEVENT
END:VCALENDAR
