BEGIN:VCALENDAR
VERSION:2.0
PRODID:-//Plone.org//NONSGML plone.app.event//EN
X-WR-TIMEZONE:Europe/Zurich
BEGIN:VEVENT
SUMMARY:Prävention Polizei 1. Kurs
DTSTART;VALUE=DATE:20190408
DTEND;VALUE=DATE:20190411
DTSTAMP;VALUE=DATE-TIME:20260420T132612Z
UID:040000008200E00074C5B7101A82E0080000000080602134D807D40100000000000000
 00100000001E91868FB803074B9CB470AE65D523F7
CREATED;VALUE=DATE-TIME:20180629T060545Z
DESCRIPTION:\n\n
LAST-MODIFIED;VALUE=DATE-TIME:20200706T064353Z
URL:https://www.sek-pratteln.ch/events/oeffentlich/praevention-polizei-1-k
 urs
END:VEVENT
END:VCALENDAR
