BEGIN:VCALENDAR
VERSION:2.0
PRODID:-//Plone.org//NONSGML plone.app.event//EN
X-WR-TIMEZONE:Europe/Zurich
BEGIN:VEVENT
SUMMARY:Prävention Polizei 1. Klassen
DTSTART;VALUE=DATE:20220425
DTEND;VALUE=DATE:20220428
DTSTAMP;VALUE=DATE-TIME:20260421T110818Z
UID:040000008200E00074C5B7101A82E00800000000700613A09463D70100000000000000
 001000000001AE4DE6819C71409DE350ADE01D5526
CREATED;VALUE=DATE-TIME:20210701T072601Z
DESCRIPTION:None
LAST-MODIFIED;VALUE=DATE-TIME:20220222T110227Z
LOCATION:kleine Aula-Q oder Schulzimmer
URL:https://www.sek-pratteln.ch/events/oeffentlich/praevention-polizei-1-k
 lassen
END:VEVENT
END:VCALENDAR
