BEGIN:VCALENDAR
VERSION:2.0
PRODID:-//Plone.org//NONSGML plone.app.event//EN
X-WR-TIMEZONE:Europe/Zurich
BEGIN:VEVENT
SUMMARY:Prävention Polizei 1. Kl.
DTSTART;VALUE=DATE:20210412
DTEND;VALUE=DATE:20210415
DTSTAMP;VALUE=DATE-TIME:20260421T104959Z
UID:040000008200E00074C5B7101A82E00800000000D0CD24E18945D60100000000000000
 0010000000FBCB79419B2E5E438648930BF58E6049
CREATED;VALUE=DATE-TIME:20200706T062915Z
LAST-MODIFIED;VALUE=DATE-TIME:20200706T064408Z
URL:https://www.sek-pratteln.ch/events/oeffentlich/praevention-polizei-1-k
 l
END:VEVENT
END:VCALENDAR
